BEGIN:VCALENDAR
VERSION:2.0
PRODID:-//Glassary Primary School - ECPv6.15.20//NONSGML v1.0//EN
CALSCALE:GREGORIAN
METHOD:PUBLISH
X-WR-CALNAME:Glassary Primary School
X-ORIGINAL-URL:https://www.glassary.argyll-bute.sch.uk
X-WR-CALDESC:Events for Glassary Primary School
REFRESH-INTERVAL;VALUE=DURATION:PT1H
X-Robots-Tag:noindex
X-PUBLISHED-TTL:PT1H
BEGIN:VTIMEZONE
TZID:Europe/London
BEGIN:DAYLIGHT
TZOFFSETFROM:+0000
TZOFFSETTO:+0100
TZNAME:BST
DTSTART:20240331T010000
END:DAYLIGHT
BEGIN:STANDARD
TZOFFSETFROM:+0100
TZOFFSETTO:+0000
TZNAME:GMT
DTSTART:20241027T010000
END:STANDARD
BEGIN:DAYLIGHT
TZOFFSETFROM:+0000
TZOFFSETTO:+0100
TZNAME:BST
DTSTART:20250330T010000
END:DAYLIGHT
BEGIN:STANDARD
TZOFFSETFROM:+0100
TZOFFSETTO:+0000
TZNAME:GMT
DTSTART:20251026T010000
END:STANDARD
BEGIN:DAYLIGHT
TZOFFSETFROM:+0000
TZOFFSETTO:+0100
TZNAME:BST
DTSTART:20260329T010000
END:DAYLIGHT
BEGIN:STANDARD
TZOFFSETFROM:+0100
TZOFFSETTO:+0000
TZNAME:GMT
DTSTART:20261025T010000
END:STANDARD
END:VTIMEZONE
BEGIN:VEVENT
DTSTART;VALUE=DATE:20251219
DTEND;VALUE=DATE:20251220
DTSTAMP:20260421T001630
CREATED:20250827T142709Z
LAST-MODIFIED:20250827T142709Z
UID:4988-1766102400-1766188799@www.glassary.argyll-bute.sch.uk
SUMMARY:School Closes for Christmas Holiday
DESCRIPTION:School closes at end of school day
URL:https://www.glassary.argyll-bute.sch.uk/event/school-closes-for-christmas-holiday/
END:VEVENT
BEGIN:VEVENT
DTSTART;TZID=Europe/London:20251215T140000
DTEND;TZID=Europe/London:20251215T150000
DTSTAMP:20260421T001630
CREATED:20250827T142753Z
LAST-MODIFIED:20251125T095340Z
UID:4990-1765807200-1765810800@www.glassary.argyll-bute.sch.uk
SUMMARY:Christmas Play
DESCRIPTION:
URL:https://www.glassary.argyll-bute.sch.uk/event/christmas-play-this-week/
END:VEVENT
BEGIN:VEVENT
DTSTART;TZID=Europe/London:20251212T130000
DTEND;TZID=Europe/London:20251212T150000
DTSTAMP:20260421T001630
CREATED:20251125T100232Z
LAST-MODIFIED:20251125T100232Z
UID:5171-1765544400-1765551600@www.glassary.argyll-bute.sch.uk
SUMMARY:Primary 1 Registration - Open Afternoon - 1pm-3pm
DESCRIPTION:
URL:https://www.glassary.argyll-bute.sch.uk/event/primary-1-registration-open-afternoon-1pm-3pm/
END:VEVENT
BEGIN:VEVENT
DTSTART;VALUE=DATE:20251211
DTEND;VALUE=DATE:20251212
DTSTAMP:20260421T001630
CREATED:20251125T095201Z
LAST-MODIFIED:20251125T095201Z
UID:5167-1765411200-1765497599@www.glassary.argyll-bute.sch.uk
SUMMARY:Christmas Jumper Day
DESCRIPTION:
URL:https://www.glassary.argyll-bute.sch.uk/event/christmas-jumper-day/
END:VEVENT
BEGIN:VEVENT
DTSTART;VALUE=DATE:20251210
DTEND;VALUE=DATE:20251211
DTSTAMP:20260421T001630
CREATED:20251125T100131Z
LAST-MODIFIED:20251125T100131Z
UID:5169-1765324800-1765411199@www.glassary.argyll-bute.sch.uk
SUMMARY:Christmas Lunch
DESCRIPTION:
URL:https://www.glassary.argyll-bute.sch.uk/event/christmas-lunch-3/
END:VEVENT
BEGIN:VEVENT
DTSTART;TZID=Europe/London:20251205T160000
DTEND;TZID=Europe/London:20251205T190000
DTSTAMP:20260421T001630
CREATED:20251125T094932Z
LAST-MODIFIED:20251125T094932Z
UID:5164-1764950400-1764961200@www.glassary.argyll-bute.sch.uk
SUMMARY:Parent Council Christmas Fayre
DESCRIPTION:
URL:https://www.glassary.argyll-bute.sch.uk/event/parent-council-christmas-fayre/
END:VEVENT
BEGIN:VEVENT
DTSTART;VALUE=DATE:20251201
DTEND;VALUE=DATE:20251202
DTSTAMP:20260421T001630
CREATED:20250827T142610Z
LAST-MODIFIED:20250827T142610Z
UID:4986-1764547200-1764633599@www.glassary.argyll-bute.sch.uk
SUMMARY:Curriculum Cafe Two - 2:30pm
DESCRIPTION:
URL:https://www.glassary.argyll-bute.sch.uk/event/curriculum-cafe-two-230pm/
END:VEVENT
BEGIN:VEVENT
DTSTART;VALUE=DATE:20251124
DTEND;VALUE=DATE:20251125
DTSTAMP:20260421T001630
CREATED:20250827T142536Z
LAST-MODIFIED:20250827T142536Z
UID:4984-1763942400-1764028799@www.glassary.argyll-bute.sch.uk
SUMMARY:Teacher In Service
DESCRIPTION:
URL:https://www.glassary.argyll-bute.sch.uk/event/teacher-in-service-2/
END:VEVENT
BEGIN:VEVENT
DTSTART;VALUE=DATE:20251117
DTEND;VALUE=DATE:20251122
DTSTAMP:20260421T001630
CREATED:20250827T142333Z
LAST-MODIFIED:20250827T142333Z
UID:4978-1763337600-1763769599@www.glassary.argyll-bute.sch.uk
SUMMARY:Reports Issued
DESCRIPTION:Reports will be issued to families w/b 17th November
URL:https://www.glassary.argyll-bute.sch.uk/event/reports-issued-2/
END:VEVENT
BEGIN:VEVENT
DTSTART;VALUE=DATE:20251114
DTEND;VALUE=DATE:20251115
DTSTAMP:20260421T001630
CREATED:20250827T142421Z
LAST-MODIFIED:20250827T142421Z
UID:4980-1763078400-1763164799@www.glassary.argyll-bute.sch.uk
SUMMARY:Children In Need
DESCRIPTION:
URL:https://www.glassary.argyll-bute.sch.uk/event/children-in-need/
END:VEVENT
BEGIN:VEVENT
DTSTART;VALUE=DATE:20251111
DTEND;VALUE=DATE:20251112
DTSTAMP:20260421T001630
CREATED:20250827T142459Z
LAST-MODIFIED:20250827T142459Z
UID:4982-1762819200-1762905599@www.glassary.argyll-bute.sch.uk
SUMMARY:Remembrance Day
DESCRIPTION:
URL:https://www.glassary.argyll-bute.sch.uk/event/remembrance-day/
END:VEVENT
BEGIN:VEVENT
DTSTART;TZID=Europe/London:20251030T183000
DTEND;TZID=Europe/London:20251030T193000
DTSTAMP:20260421T001630
CREATED:20250924T091714Z
LAST-MODIFIED:20250924T091714Z
UID:5068-1761849000-1761852600@www.glassary.argyll-bute.sch.uk
SUMMARY:Parent Council Halloween Disco
DESCRIPTION:
URL:https://www.glassary.argyll-bute.sch.uk/event/parent-council-halloween-disco-2/
END:VEVENT
BEGIN:VEVENT
DTSTART;VALUE=DATE:20251029
DTEND;VALUE=DATE:20251030
DTSTAMP:20260421T001630
CREATED:20250828T075511Z
LAST-MODIFIED:20250828T075511Z
UID:5027-1761696000-1761782399@www.glassary.argyll-bute.sch.uk
SUMMARY:Flu Vaccinations
DESCRIPTION:
URL:https://www.glassary.argyll-bute.sch.uk/event/flu-vaccinations-2/
END:VEVENT
BEGIN:VEVENT
DTSTART;VALUE=DATE:20251028
DTEND;VALUE=DATE:20251029
DTSTAMP:20260421T001630
CREATED:20250903T101425Z
LAST-MODIFIED:20250903T101425Z
UID:5036-1761609600-1761695999@www.glassary.argyll-bute.sch.uk
SUMMARY:PATCH Project
DESCRIPTION:
URL:https://www.glassary.argyll-bute.sch.uk/event/patch-project/
END:VEVENT
BEGIN:VEVENT
DTSTART;VALUE=DATE:20251020
DTEND;VALUE=DATE:20251021
DTSTAMP:20260421T001630
CREATED:20250827T142236Z
LAST-MODIFIED:20250827T142236Z
UID:4976-1760918400-1761004799@www.glassary.argyll-bute.sch.uk
SUMMARY:Pupils Return
DESCRIPTION:Return to school post holiday
URL:https://www.glassary.argyll-bute.sch.uk/event/pupils-return-2/
END:VEVENT
BEGIN:VEVENT
DTSTART;VALUE=DATE:20251003
DTEND;VALUE=DATE:20251004
DTSTAMP:20260421T001630
CREATED:20250827T142156Z
LAST-MODIFIED:20250827T142156Z
UID:4974-1759449600-1759535999@www.glassary.argyll-bute.sch.uk
SUMMARY:School Closes For October Holiday
DESCRIPTION:School closes at end of school day
URL:https://www.glassary.argyll-bute.sch.uk/event/school-closes-for-october-holiday/
END:VEVENT
BEGIN:VEVENT
DTSTART;VALUE=DATE:20251001
DTEND;VALUE=DATE:20251002
DTSTAMP:20260421T001630
CREATED:20250827T142002Z
LAST-MODIFIED:20250827T142002Z
UID:4972-1759276800-1759363199@www.glassary.argyll-bute.sch.uk
SUMMARY:Curriculum Cafe One - 2:30pm
DESCRIPTION:
URL:https://www.glassary.argyll-bute.sch.uk/event/curriculum-cafe-one-230pm/
END:VEVENT
BEGIN:VEVENT
DTSTART;VALUE=DATE:20250922
DTEND;VALUE=DATE:20250924
DTSTAMP:20260421T001630
CREATED:20250827T140903Z
LAST-MODIFIED:20250827T141122Z
UID:4966-1758499200-1758671999@www.glassary.argyll-bute.sch.uk
SUMMARY:Parents Nights
DESCRIPTION:
URL:https://www.glassary.argyll-bute.sch.uk/event/parents-nights/
END:VEVENT
BEGIN:VEVENT
DTSTART;VALUE=DATE:20250918
DTEND;VALUE=DATE:20250919
DTSTAMP:20260421T001630
CREATED:20250827T141822Z
LAST-MODIFIED:20250827T141822Z
UID:4970-1758153600-1758239999@www.glassary.argyll-bute.sch.uk
SUMMARY:Primary 1 Screening
DESCRIPTION:
URL:https://www.glassary.argyll-bute.sch.uk/event/primary-1-screening/
END:VEVENT
BEGIN:VEVENT
DTSTART;VALUE=DATE:20250908
DTEND;VALUE=DATE:20250909
DTSTAMP:20260421T001630
CREATED:20250829T130528Z
LAST-MODIFIED:20250829T130528Z
UID:5031-1757289600-1757375999@www.glassary.argyll-bute.sch.uk
SUMMARY:School Photos
DESCRIPTION:School photos will be taken again by Mr Carter this year. He will be arriving in the morning.
URL:https://www.glassary.argyll-bute.sch.uk/event/school-photos/
END:VEVENT
BEGIN:VEVENT
DTSTART;VALUE=DATE:20250903
DTEND;VALUE=DATE:20250904
DTSTAMP:20260421T001630
CREATED:20250827T140941Z
LAST-MODIFIED:20250827T141020Z
UID:4968-1756857600-1756943999@www.glassary.argyll-bute.sch.uk
SUMMARY:Parent Council Meeting 6:30pm
DESCRIPTION:
URL:https://www.glassary.argyll-bute.sch.uk/event/parent-council-meeting-630pm/
END:VEVENT
BEGIN:VEVENT
DTSTART;TZID=Europe/London:20250814T080000
DTEND;TZID=Europe/London:20250814T170000
DTSTAMP:20260421T001630
CREATED:20250827T140817Z
LAST-MODIFIED:20250827T140817Z
UID:4964-1755158400-1755190800@www.glassary.argyll-bute.sch.uk
SUMMARY:Pupils Return
DESCRIPTION:
URL:https://www.glassary.argyll-bute.sch.uk/event/pupils-return/
END:VEVENT
BEGIN:VEVENT
DTSTART;VALUE=DATE:20250812
DTEND;VALUE=DATE:20250814
DTSTAMP:20260421T001630
CREATED:20250827T140452Z
LAST-MODIFIED:20250827T141221Z
UID:4962-1754956800-1755129599@www.glassary.argyll-bute.sch.uk
SUMMARY:Teacher In Service
DESCRIPTION:
URL:https://www.glassary.argyll-bute.sch.uk/event/teacher-in-service/
END:VEVENT
BEGIN:VEVENT
DTSTART;TZID=Europe/London:20250701T130000
DTEND;TZID=Europe/London:20250701T130000
DTSTAMP:20260421T001630
CREATED:20240804T134228Z
LAST-MODIFIED:20240804T134624Z
UID:3079-1751374800-1751374800@www.glassary.argyll-bute.sch.uk
SUMMARY:Break Up.
DESCRIPTION:We break up for the summer at 1pm on Tuesday 1st July. \nStaff will return for training days on Tuesday 12th and Wednesday 13th August and pupils will return on Thursday 14th August. \n 
URL:https://www.glassary.argyll-bute.sch.uk/event/break-up-10/
LOCATION:Glassary Primary School
END:VEVENT
BEGIN:VEVENT
DTSTART;VALUE=DATE:20250625
DTEND;VALUE=DATE:20250628
DTSTAMP:20260421T001630
CREATED:20250216T170611Z
LAST-MODIFIED:20250216T170611Z
UID:3767-1750809600-1751068799@www.glassary.argyll-bute.sch.uk
SUMMARY:YesFest
DESCRIPTION:We absolutely delighted to announce that Glassary and Tayvallich Schools have been invited to represent Scottish Schools at YesFest\, a festival which brings together children from around the world who are committed to becoming stewards of our planet and protecting it for future generations. \nThe event takes place on Thursday 26th and Friday 27th June in Lancashire and we have been invited to take 6 pupils from P5 and P6 across our two schools and 2 adults. \nYou can get a taster of what the event will involve from this video of last year’s event: https://youtu.be/2N1mBd8WQOM
URL:https://www.glassary.argyll-bute.sch.uk/event/yesfest/
END:VEVENT
BEGIN:VEVENT
DTSTART;TZID=Europe/London:20250623T141500
DTEND;TZID=Europe/London:20250623T151500
DTSTAMP:20260421T001630
CREATED:20240804T133937Z
LAST-MODIFIED:20250621T175326Z
UID:3077-1750688100-1750691700@www.glassary.argyll-bute.sch.uk
SUMMARY:Summer Concert.
DESCRIPTION:Our Summer Concert and Leavers’ Assembly will take place on Monday 23rd June at 2.15pm.
URL:https://www.glassary.argyll-bute.sch.uk/event/summer-concert/
LOCATION:Glassary Primary School
END:VEVENT
BEGIN:VEVENT
DTSTART;VALUE=DATE:20250617
DTEND;VALUE=DATE:20250618
DTSTAMP:20260421T001630
CREATED:20250508T074020Z
LAST-MODIFIED:20250508T074020Z
UID:4130-1750118400-1750204799@www.glassary.argyll-bute.sch.uk
SUMMARY:Hope Spot 2025
DESCRIPTION:We are delighted that Glassary and Tayvallich Primary Schools will once again be working with our partners from Argyll Hope Spot to explore our locality and understand the beauty\, fragility and potential of the landscape that surrounds us. This year\, all pupils in P1 to 6 will take part in activities over 2 days – Wednesday 11th and Tuesday 17th June – with an amazing group of workshop leaders. You can see more about last year’s Hope Spot activities and get a sense of what is to come here: \nHope Spot Workshops – Glassary Primary School
URL:https://www.glassary.argyll-bute.sch.uk/event/hope-spot-2025-2/
LOCATION:Glassary Primary School
END:VEVENT
BEGIN:VEVENT
DTSTART;VALUE=DATE:20250616
DTEND;VALUE=DATE:20250621
DTSTAMP:20260421T001630
CREATED:20240804T133658Z
LAST-MODIFIED:20240804T133658Z
UID:3075-1750032000-1750463999@www.glassary.argyll-bute.sch.uk
SUMMARY:Sports Day.
DESCRIPTION:Sports Day will take place this week – day TBC.
URL:https://www.glassary.argyll-bute.sch.uk/event/sports-day-2/
END:VEVENT
BEGIN:VEVENT
DTSTART;VALUE=DATE:20250611
DTEND;VALUE=DATE:20250612
DTSTAMP:20260421T001630
CREATED:20250508T073944Z
LAST-MODIFIED:20250508T073944Z
UID:4128-1749600000-1749686399@www.glassary.argyll-bute.sch.uk
SUMMARY:Hope Spot 2025
DESCRIPTION:We are delighted that Glassary and Tayvallich Primary Schools will once again be working with our partners from Argyll Hope Spot to explore our locality and understand the beauty\, fragility and potential of the landscape that surrounds us. This year\, all pupils in P1 to 6 will take part in activities over 2 days – Wednesday 11th and Tuesday 17th June – with an amazing group of workshop leaders. You can see more about last year’s Hope Spot activities and get a sense of what is to come here: \nHope Spot Workshops – Glassary Primary School
URL:https://www.glassary.argyll-bute.sch.uk/event/hope-spot-2025/
END:VEVENT
BEGIN:VEVENT
DTSTART;TZID=Europe/London:20250609T110000
DTEND;TZID=Europe/London:20250609T120000
DTSTAMP:20260421T001630
CREATED:20250403T163632Z
LAST-MODIFIED:20250403T163658Z
UID:4096-1749466800-1749470400@www.glassary.argyll-bute.sch.uk
SUMMARY:Street Drumming
DESCRIPTION:Martin Douglas from the Youth Music Initiative will be delivering Street Drumming workshops this term. \nThe workshops are tailored for P4-7\, but Martin welcomes our school’s selection of the group to participate\, so we hope that for all of our children will be involved. The sessions can be conducted in classrooms\, halls\, or even outdoors\, weather permitting\, during the sunnier months. At the end of the block\, family members are usually invited to hear and see what the children have learned. \n  \nDates: \n\nMonday 28th April\nMonday 5th May\nMonday 12th May\nMonday 19th May\nMonday 2nd June (NO P7)\nMonday 9th June\n\nTime – 11am to 12.
URL:https://www.glassary.argyll-bute.sch.uk/event/street-drumming-6/
LOCATION:Glassary Primary School
END:VEVENT
END:VCALENDAR