BEGIN:VCALENDAR
VERSION:2.0
PRODID:-//Glassary Primary School - ECPv6.15.20//NONSGML v1.0//EN
CALSCALE:GREGORIAN
METHOD:PUBLISH
X-WR-CALNAME:Glassary Primary School
X-ORIGINAL-URL:https://www.glassary.argyll-bute.sch.uk
X-WR-CALDESC:Events for Glassary Primary School
REFRESH-INTERVAL;VALUE=DURATION:PT1H
X-Robots-Tag:noindex
X-PUBLISHED-TTL:PT1H
BEGIN:VTIMEZONE
TZID:Europe/London
BEGIN:DAYLIGHT
TZOFFSETFROM:+0000
TZOFFSETTO:+0100
TZNAME:BST
DTSTART:20230326T010000
END:DAYLIGHT
BEGIN:STANDARD
TZOFFSETFROM:+0100
TZOFFSETTO:+0000
TZNAME:GMT
DTSTART:20231029T010000
END:STANDARD
BEGIN:DAYLIGHT
TZOFFSETFROM:+0000
TZOFFSETTO:+0100
TZNAME:BST
DTSTART:20240331T010000
END:DAYLIGHT
BEGIN:STANDARD
TZOFFSETFROM:+0100
TZOFFSETTO:+0000
TZNAME:GMT
DTSTART:20241027T010000
END:STANDARD
BEGIN:DAYLIGHT
TZOFFSETFROM:+0000
TZOFFSETTO:+0100
TZNAME:BST
DTSTART:20250330T010000
END:DAYLIGHT
BEGIN:STANDARD
TZOFFSETFROM:+0100
TZOFFSETTO:+0000
TZNAME:GMT
DTSTART:20251026T010000
END:STANDARD
BEGIN:DAYLIGHT
TZOFFSETFROM:+0000
TZOFFSETTO:+0100
TZNAME:BST
DTSTART:20260329T010000
END:DAYLIGHT
BEGIN:STANDARD
TZOFFSETFROM:+0100
TZOFFSETTO:+0000
TZNAME:GMT
DTSTART:20261025T010000
END:STANDARD
END:VTIMEZONE
BEGIN:VEVENT
DTSTART;VALUE=DATE:20250218
DTEND;VALUE=DATE:20250219
DTSTAMP:20260421T070347
CREATED:20240804T124209Z
LAST-MODIFIED:20240804T124209Z
UID:3055-1739836800-1739923199@www.glassary.argyll-bute.sch.uk
SUMMARY:Pupils return to school.
DESCRIPTION:Pupils return to school on this day after the holiday/staff training day.
URL:https://www.glassary.argyll-bute.sch.uk/event/pupils-return-to-school-2/
LOCATION:Glassary Primary School
END:VEVENT
BEGIN:VEVENT
DTSTART;VALUE=DATE:20250217
DTEND;VALUE=DATE:20250218
DTSTAMP:20260421T070347
CREATED:20240804T123947Z
LAST-MODIFIED:20240804T123947Z
UID:3053-1739750400-1739836799@www.glassary.argyll-bute.sch.uk
SUMMARY:Staff Training Day
DESCRIPTION:The School will be closed to children on this day for staff training.
URL:https://www.glassary.argyll-bute.sch.uk/event/staff-training-day-4/
LOCATION:Glassary Primary School
END:VEVENT
BEGIN:VEVENT
DTSTART;TZID=Europe/London:20250207T151500
DTEND;TZID=Europe/London:20250207T151500
DTSTAMP:20260421T070347
CREATED:20240804T123738Z
LAST-MODIFIED:20240804T123738Z
UID:3051-1738941300-1738941300@www.glassary.argyll-bute.sch.uk
SUMMARY:Break up.
DESCRIPTION:School breaks up for the February holiday on this day at 3.15pm.
URL:https://www.glassary.argyll-bute.sch.uk/event/break-up-8/
LOCATION:Glassary Primary School
END:VEVENT
BEGIN:VEVENT
DTSTART;TZID=Europe/London:20250106T090000
DTEND;TZID=Europe/London:20250106T090000
DTSTAMP:20260421T070347
CREATED:20240804T123442Z
LAST-MODIFIED:20240804T123442Z
UID:3049-1736154000-1736154000@www.glassary.argyll-bute.sch.uk
SUMMARY:Back to School.
DESCRIPTION:School returns after the winter holiday on this day.
URL:https://www.glassary.argyll-bute.sch.uk/event/back-to-school-3/
LOCATION:Glassary Primary School
END:VEVENT
BEGIN:VEVENT
DTSTART;TZID=Europe/London:20241220T143000
DTEND;TZID=Europe/London:20241220T143000
DTSTAMP:20260421T070347
CREATED:20240804T123208Z
LAST-MODIFIED:20240804T123208Z
UID:3047-1734705000-1734705000@www.glassary.argyll-bute.sch.uk
SUMMARY:Break Up
DESCRIPTION:School breaks up for the winter holiday on this day at 2.30pm.
URL:https://www.glassary.argyll-bute.sch.uk/event/break-up-7/
LOCATION:Glassary Primary School
END:VEVENT
BEGIN:VEVENT
DTSTART;TZID=Europe/London:20241219T020000
DTEND;TZID=Europe/London:20241219T151500
DTSTAMP:20260421T070347
CREATED:20240804T122909Z
LAST-MODIFIED:20240804T122947Z
UID:3045-1734573600-1734621300@www.glassary.argyll-bute.sch.uk
SUMMARY:Christmas Showcase
DESCRIPTION:The school Christmas showcase will take place on Thursday 19th December. Ticket numbers will be limited to 2 per family in the first instance\, due to space considerations.
URL:https://www.glassary.argyll-bute.sch.uk/event/christmas-showcase/
LOCATION:Glassary Primary School
END:VEVENT
BEGIN:VEVENT
DTSTART;TZID=Europe/London:20241211T120000
DTEND;TZID=Europe/London:20241211T120000
DTSTAMP:20260421T070347
CREATED:20240804T121737Z
LAST-MODIFIED:20240804T122127Z
UID:3043-1733918400-1733918400@www.glassary.argyll-bute.sch.uk
SUMMARY:Christmas Lunch
DESCRIPTION:Christmas lunch will provisionally take place on Wednesday 11th December. Children are very welcome to wear a Christmas jumper or accessory on that day\, if they would like.
URL:https://www.glassary.argyll-bute.sch.uk/event/christmas-lunch-2/
LOCATION:Glassary Primary School
END:VEVENT
BEGIN:VEVENT
DTSTART;TZID=Europe/London:20241203T090000
DTEND;TZID=Europe/London:20241203T120000
DTSTAMP:20260421T070347
CREATED:20241107T195859Z
LAST-MODIFIED:20241107T195859Z
UID:3418-1733216400-1733227200@www.glassary.argyll-bute.sch.uk
SUMMARY:Glasgow Science Centre Learning Lab Workshops
DESCRIPTION:The education team from the Glasgow Science Centre will be visiting us and delivering some of their amazing workshops: \nGo Oxygen Go Science Show – Miss  Mahmood’s Class \nDisgusting Digestion Science Show – Mrs McClymont’s Class \nBodyVision Exhibits Session – all pupils.
URL:https://www.glassary.argyll-bute.sch.uk/event/glasgow-science-centre-learning-lab-workshops/
END:VEVENT
BEGIN:VEVENT
DTSTART;VALUE=DATE:20241125
DTEND;VALUE=DATE:20241126
DTSTAMP:20260421T070347
CREATED:20240804T115832Z
LAST-MODIFIED:20240804T115832Z
UID:3041-1732492800-1732579199@www.glassary.argyll-bute.sch.uk
SUMMARY:Staff Training Day.
DESCRIPTION:Pupils do not attend school on this day.
URL:https://www.glassary.argyll-bute.sch.uk/event/staff-training-day-3/
LOCATION:Glassary Primary School
END:VEVENT
BEGIN:VEVENT
DTSTART;TZID=Europe/London:20241121T193000
DTEND;TZID=Europe/London:20241121T203000
DTSTAMP:20260421T070347
CREATED:20241020T114143Z
LAST-MODIFIED:20241020T114143Z
UID:3363-1732217400-1732221000@www.glassary.argyll-bute.sch.uk
SUMMARY:Parent Council Meeting
DESCRIPTION:The next Parent Council Meeting will take place at 7.30pm in school on Thursday 21st November. All parents and carers are very welcome.
URL:https://www.glassary.argyll-bute.sch.uk/event/parent-council-meeting-3/
LOCATION:Glassary Primary School
END:VEVENT
BEGIN:VEVENT
DTSTART;TZID=Europe/London:20241120T110000
DTEND;TZID=Europe/London:20241120T150000
DTSTAMP:20260421T070347
CREATED:20241108T143856Z
LAST-MODIFIED:20241108T144341Z
UID:3423-1732100400-1732114800@www.glassary.argyll-bute.sch.uk
SUMMARY:Our World From Space Workshop
DESCRIPTION:On Wednesday 20th November\, the P4 to 7 class will be travelling to Oban for a fabulous “Our World From Space” Workshop. \n 
URL:https://www.glassary.argyll-bute.sch.uk/event/our-world-from-space-workshop/
END:VEVENT
BEGIN:VEVENT
DTSTART;VALUE=DATE:20241118
DTEND;VALUE=DATE:20241119
DTSTAMP:20260421T070347
CREATED:20240804T115638Z
LAST-MODIFIED:20240804T115638Z
UID:3039-1731888000-1731974399@www.glassary.argyll-bute.sch.uk
SUMMARY:Progress reports issued.
DESCRIPTION:Individual written pupil progress reports will be issued this week.
URL:https://www.glassary.argyll-bute.sch.uk/event/progress-reports-issued/
LOCATION:Glassary Primary School
END:VEVENT
BEGIN:VEVENT
DTSTART;TZID=Europe/London:20241115T090000
DTEND;TZID=Europe/London:20241115T151500
DTSTAMP:20260421T070347
CREATED:20240804T115438Z
LAST-MODIFIED:20240804T115438Z
UID:3037-1731661200-1731683700@www.glassary.argyll-bute.sch.uk
SUMMARY:Children in Need Day
DESCRIPTION:Curricular and fundraising events will take place in school around Children in Need Day.
URL:https://www.glassary.argyll-bute.sch.uk/event/children-in-need-day-2/
LOCATION:Glassary Primary School
END:VEVENT
BEGIN:VEVENT
DTSTART;VALUE=DATE:20241112
DTEND;VALUE=DATE:20241113
DTSTAMP:20260421T070347
CREATED:20240830T090945Z
LAST-MODIFIED:20240830T090945Z
UID:3155-1731369600-1731455999@www.glassary.argyll-bute.sch.uk
SUMMARY:Childsmile visit
DESCRIPTION:We will get a visit on this day by the Childsmile Team who will help us learn all about keeping our teeth as clean and healthy as possible.
URL:https://www.glassary.argyll-bute.sch.uk/event/childsmile-visit/
LOCATION:Glassary Primary School
END:VEVENT
BEGIN:VEVENT
DTSTART;TZID=Europe/London:20241111T090000
DTEND;TZID=Europe/London:20241111T151500
DTSTAMP:20260421T070347
CREATED:20240804T115118Z
LAST-MODIFIED:20240804T115118Z
UID:3035-1731315600-1731338100@www.glassary.argyll-bute.sch.uk
SUMMARY:Marking of Remembrance.
DESCRIPTION:Curricular events will take place in school around Remembrance.
URL:https://www.glassary.argyll-bute.sch.uk/event/marking-of-remembrance-2/
LOCATION:Glassary Primary School
END:VEVENT
BEGIN:VEVENT
DTSTART;TZID=Europe/London:20241030T183000
DTEND;TZID=Europe/London:20241030T193000
DTSTAMP:20260421T070347
CREATED:20240804T114850Z
LAST-MODIFIED:20240905T191137Z
UID:3033-1730313000-1730316600@www.glassary.argyll-bute.sch.uk
SUMMARY:Glassary Parent Council Halloween Disco
DESCRIPTION:Parent Council Halloween Disco.
URL:https://www.glassary.argyll-bute.sch.uk/event/glassary-parent-council-halloween-disco/
LOCATION:Glassary Primary School
END:VEVENT
BEGIN:VEVENT
DTSTART;TZID=Europe/London:20241024T193000
DTEND;TZID=Europe/London:20241024T203000
DTSTAMP:20260421T070347
CREATED:20241020T113905Z
LAST-MODIFIED:20241020T113905Z
UID:3361-1729798200-1729801800@www.glassary.argyll-bute.sch.uk
SUMMARY:Parent Council Meeting
DESCRIPTION:The next Parent Council Meeting will take place at 7.30pm in school on Thursday 24th October. All parents and carers are very welcome.
URL:https://www.glassary.argyll-bute.sch.uk/event/parent-council-meeting-2/
LOCATION:Glassary Primary School
END:VEVENT
BEGIN:VEVENT
DTSTART;TZID=Europe/London:20241024T103000
DTEND;TZID=Europe/London:20241024T113000
DTSTAMP:20260421T070347
CREATED:20240912T213247Z
LAST-MODIFIED:20240912T213247Z
UID:3178-1729765800-1729769400@www.glassary.argyll-bute.sch.uk
SUMMARY:P1 and P7 dental inspections.
DESCRIPTION:The national Dental inspection for P1 and P7 pupils  will take place in school on this day.
URL:https://www.glassary.argyll-bute.sch.uk/event/p1-and-p7-dental-inspections/
LOCATION:Glassary Primary School
END:VEVENT
BEGIN:VEVENT
DTSTART;TZID=Europe/London:20241023T080000
DTEND;TZID=Europe/London:20241023T170000
DTSTAMP:20260421T070347
CREATED:20240804T111510Z
LAST-MODIFIED:20240804T111510Z
UID:3017-1729670400-1729702800@www.glassary.argyll-bute.sch.uk
SUMMARY:PATCH workshops with Emily P6 and 7
DESCRIPTION:PATCH workshops with Emily Love on personal safety\, boundaries and respect.
URL:https://www.glassary.argyll-bute.sch.uk/event/patch-workshops-with-emily-p6-and-7/
LOCATION:Glassary Primary School
END:VEVENT
BEGIN:VEVENT
DTSTART;TZID=Europe/London:20241021T080000
DTEND;TZID=Europe/London:20241021T170000
DTSTAMP:20260421T070347
CREATED:20240804T114248Z
LAST-MODIFIED:20240804T141653Z
UID:3031-1729497600-1729530000@www.glassary.argyll-bute.sch.uk
SUMMARY:Return to school.
DESCRIPTION:School returns after the October holiday on this day.
URL:https://www.glassary.argyll-bute.sch.uk/event/return-to-school/
END:VEVENT
BEGIN:VEVENT
DTSTART;TZID=Europe/London:20241004T080000
DTEND;TZID=Europe/London:20241004T170000
DTSTAMP:20260421T070347
CREATED:20240804T114146Z
LAST-MODIFIED:20240923T121135Z
UID:3029-1728028800-1728061200@www.glassary.argyll-bute.sch.uk
SUMMARY:Break up.
DESCRIPTION:School breaks up for the October holiday on this day at 3.15pm.
URL:https://www.glassary.argyll-bute.sch.uk/event/break-up-6/
END:VEVENT
BEGIN:VEVENT
DTSTART;TZID=Europe/London:20240926T093000
DTEND;TZID=Europe/London:20240926T110000
DTSTAMP:20260421T070347
CREATED:20240912T213018Z
LAST-MODIFIED:20240912T213333Z
UID:3176-1727343000-1727348400@www.glassary.argyll-bute.sch.uk
SUMMARY:Flu vaccinations
DESCRIPTION:Flu vaccinations will be administered by the child health team in the morning of this day.
URL:https://www.glassary.argyll-bute.sch.uk/event/flu-vaccinations/
LOCATION:Glassary Primary School
END:VEVENT
BEGIN:VEVENT
DTSTART;VALUE=DATE:20240924
DTEND;VALUE=DATE:20240925
DTSTAMP:20260421T070347
CREATED:20240830T091544Z
LAST-MODIFIED:20240830T091544Z
UID:3157-1727136000-1727222399@www.glassary.argyll-bute.sch.uk
SUMMARY:Forest Workshop with Lizzie Rose
DESCRIPTION:We are very excited that Lizzie Rose will be working with us on this day as part of her Forest project. Please see the poster for more information.
URL:https://www.glassary.argyll-bute.sch.uk/event/forest-workshop-with-lizzie-rose/
LOCATION:Glassary Primary School
END:VEVENT
BEGIN:VEVENT
DTSTART;VALUE=DATE:20240923
DTEND;VALUE=DATE:20240925
DTSTAMP:20260421T070347
CREATED:20240804T113315Z
LAST-MODIFIED:20240804T113845Z
UID:3025-1727049600-1727222399@www.glassary.argyll-bute.sch.uk
SUMMARY:Parents’ Evenings
DESCRIPTION:Parents’ evenings will take place after school on Monday 23rd September and Tuesday 24th September where parents/carers can discuss with the class teacher how their child has settled into the new school year and the progress they are making. Individual times will be arranged with families.
URL:https://www.glassary.argyll-bute.sch.uk/event/parents-evenings-3/
LOCATION:Glassary Primary School
END:VEVENT
BEGIN:VEVENT
DTSTART;TZID=Europe/London:20240919T133000
DTEND;TZID=Europe/London:20240919T150000
DTSTAMP:20260421T070347
CREATED:20240804T112534Z
LAST-MODIFIED:20240804T112534Z
UID:3023-1726752600-1726758000@www.glassary.argyll-bute.sch.uk
SUMMARY:Primary 7 Smoke Free Me Performance and Workshop.
DESCRIPTION:Primary 7 pupils will attend a drama performance and workshop about health\, smoking and peer pressure at Lochgilphead Joint Campus.
URL:https://www.glassary.argyll-bute.sch.uk/event/primary-7-smoke-free-me-performance-and-workshop/
LOCATION:Lochgilphead Joint Campus.
END:VEVENT
BEGIN:VEVENT
DTSTART;TZID=Europe/London:20240821T090000
DTEND;TZID=Europe/London:20240821T150000
DTSTAMP:20260421T070347
CREATED:20240804T111215Z
LAST-MODIFIED:20240804T111215Z
UID:3015-1724230800-1724252400@www.glassary.argyll-bute.sch.uk
SUMMARY:PATCH workshops with Emily P4\,5\,6 and 7
DESCRIPTION:PATCH workshops with Emily Love on personal safety\, boundaries and respect.
URL:https://www.glassary.argyll-bute.sch.uk/event/patch-workshops-with-emily-p456-and-7/
LOCATION:Glassary Primary School
END:VEVENT
BEGIN:VEVENT
DTSTART;VALUE=DATE:20240814
DTEND;VALUE=DATE:20240815
DTSTAMP:20260421T070347
CREATED:20240804T110738Z
LAST-MODIFIED:20240804T110738Z
UID:3013-1723593600-1723679999@www.glassary.argyll-bute.sch.uk
SUMMARY:Pupils return to school.
DESCRIPTION:
URL:https://www.glassary.argyll-bute.sch.uk/event/pupils-return-to-school/
LOCATION:Glassary Primary School
END:VEVENT
BEGIN:VEVENT
DTSTART;VALUE=DATE:20240812
DTEND;VALUE=DATE:20240814
DTSTAMP:20260421T070347
CREATED:20240804T110447Z
LAST-MODIFIED:20240804T110447Z
UID:3011-1723420800-1723593599@www.glassary.argyll-bute.sch.uk
SUMMARY:Staff Training Days
DESCRIPTION:Pupils do not attend school on this day.
URL:https://www.glassary.argyll-bute.sch.uk/event/staff-training-days/
LOCATION:Glassary Primary School
END:VEVENT
BEGIN:VEVENT
DTSTART;TZID=Europe/London:20240628T130000
DTEND;TZID=Europe/London:20240628T130000
DTSTAMP:20260421T070347
CREATED:20240323T133112Z
LAST-MODIFIED:20240323T133112Z
UID:2052-1719579600-1719579600@www.glassary.argyll-bute.sch.uk
SUMMARY:Break up
DESCRIPTION:End of Term \nPlease note that pupils can leave school at 1pm on Friday June 28th\, as long as this suits parents. Any children who cannot be collected  early by families\, however\, will be supervised in school until 3.15pm.
URL:https://www.glassary.argyll-bute.sch.uk/event/break-up-5/
LOCATION:Glassary Primary School
END:VEVENT
BEGIN:VEVENT
DTSTART;TZID=Europe/London:20240626T143000
DTEND;TZID=Europe/London:20240626T151500
DTSTAMP:20260421T070347
CREATED:20240608T102148Z
LAST-MODIFIED:20240608T102148Z
UID:2782-1719412200-1719414900@www.glassary.argyll-bute.sch.uk
SUMMARY:End of term celebration.
DESCRIPTION:End of term farewells. \nWe will be saying farewell to our P7 and staff leavers on Wednesday 26th June at 2.30 pm.  There will be a number of short performances by some of our pupils. There is absolutely no expectation that parents attend but if you would like to come along\, you will be very welcome. We will ask you whether you plan to attend nearer the time.
URL:https://www.glassary.argyll-bute.sch.uk/event/end-of-term-celebration/
LOCATION:Glassary Primary School
END:VEVENT
END:VCALENDAR