BEGIN:VCALENDAR
VERSION:2.0
PRODID:-//Glassary Primary School - ECPv6.15.20//NONSGML v1.0//EN
CALSCALE:GREGORIAN
METHOD:PUBLISH
X-WR-CALNAME:Glassary Primary School
X-ORIGINAL-URL:https://www.glassary.argyll-bute.sch.uk
X-WR-CALDESC:Events for Glassary Primary School
REFRESH-INTERVAL;VALUE=DURATION:PT1H
X-Robots-Tag:noindex
X-PUBLISHED-TTL:PT1H
BEGIN:VTIMEZONE
TZID:Europe/London
BEGIN:DAYLIGHT
TZOFFSETFROM:+0000
TZOFFSETTO:+0100
TZNAME:BST
DTSTART:20220327T010000
END:DAYLIGHT
BEGIN:STANDARD
TZOFFSETFROM:+0100
TZOFFSETTO:+0000
TZNAME:GMT
DTSTART:20221030T010000
END:STANDARD
BEGIN:DAYLIGHT
TZOFFSETFROM:+0000
TZOFFSETTO:+0100
TZNAME:BST
DTSTART:20230326T010000
END:DAYLIGHT
BEGIN:STANDARD
TZOFFSETFROM:+0100
TZOFFSETTO:+0000
TZNAME:GMT
DTSTART:20231029T010000
END:STANDARD
BEGIN:DAYLIGHT
TZOFFSETFROM:+0000
TZOFFSETTO:+0100
TZNAME:BST
DTSTART:20240331T010000
END:DAYLIGHT
BEGIN:STANDARD
TZOFFSETFROM:+0100
TZOFFSETTO:+0000
TZNAME:GMT
DTSTART:20241027T010000
END:STANDARD
BEGIN:DAYLIGHT
TZOFFSETFROM:+0000
TZOFFSETTO:+0100
TZNAME:BST
DTSTART:20250330T010000
END:DAYLIGHT
BEGIN:STANDARD
TZOFFSETFROM:+0100
TZOFFSETTO:+0000
TZNAME:GMT
DTSTART:20251026T010000
END:STANDARD
END:VTIMEZONE
BEGIN:VEVENT
DTSTART;TZID=Europe/London:20240821T090000
DTEND;TZID=Europe/London:20240821T150000
DTSTAMP:20260421T043557
CREATED:20240804T111215Z
LAST-MODIFIED:20240804T111215Z
UID:3015-1724230800-1724252400@www.glassary.argyll-bute.sch.uk
SUMMARY:PATCH workshops with Emily P4\,5\,6 and 7
DESCRIPTION:PATCH workshops with Emily Love on personal safety\, boundaries and respect.
URL:https://www.glassary.argyll-bute.sch.uk/event/patch-workshops-with-emily-p456-and-7/
LOCATION:Glassary Primary School
END:VEVENT
BEGIN:VEVENT
DTSTART;VALUE=DATE:20240814
DTEND;VALUE=DATE:20240815
DTSTAMP:20260421T043557
CREATED:20240804T110738Z
LAST-MODIFIED:20240804T110738Z
UID:3013-1723593600-1723679999@www.glassary.argyll-bute.sch.uk
SUMMARY:Pupils return to school.
DESCRIPTION:
URL:https://www.glassary.argyll-bute.sch.uk/event/pupils-return-to-school/
LOCATION:Glassary Primary School
END:VEVENT
BEGIN:VEVENT
DTSTART;VALUE=DATE:20240812
DTEND;VALUE=DATE:20240814
DTSTAMP:20260421T043557
CREATED:20240804T110447Z
LAST-MODIFIED:20240804T110447Z
UID:3011-1723420800-1723593599@www.glassary.argyll-bute.sch.uk
SUMMARY:Staff Training Days
DESCRIPTION:Pupils do not attend school on this day.
URL:https://www.glassary.argyll-bute.sch.uk/event/staff-training-days/
LOCATION:Glassary Primary School
END:VEVENT
BEGIN:VEVENT
DTSTART;TZID=Europe/London:20240628T130000
DTEND;TZID=Europe/London:20240628T130000
DTSTAMP:20260421T043557
CREATED:20240323T133112Z
LAST-MODIFIED:20240323T133112Z
UID:2052-1719579600-1719579600@www.glassary.argyll-bute.sch.uk
SUMMARY:Break up
DESCRIPTION:End of Term \nPlease note that pupils can leave school at 1pm on Friday June 28th\, as long as this suits parents. Any children who cannot be collected  early by families\, however\, will be supervised in school until 3.15pm.
URL:https://www.glassary.argyll-bute.sch.uk/event/break-up-5/
LOCATION:Glassary Primary School
END:VEVENT
BEGIN:VEVENT
DTSTART;TZID=Europe/London:20240626T143000
DTEND;TZID=Europe/London:20240626T151500
DTSTAMP:20260421T043557
CREATED:20240608T102148Z
LAST-MODIFIED:20240608T102148Z
UID:2782-1719412200-1719414900@www.glassary.argyll-bute.sch.uk
SUMMARY:End of term celebration.
DESCRIPTION:End of term farewells. \nWe will be saying farewell to our P7 and staff leavers on Wednesday 26th June at 2.30 pm.  There will be a number of short performances by some of our pupils. There is absolutely no expectation that parents attend but if you would like to come along\, you will be very welcome. We will ask you whether you plan to attend nearer the time.
URL:https://www.glassary.argyll-bute.sch.uk/event/end-of-term-celebration/
LOCATION:Glassary Primary School
END:VEVENT
BEGIN:VEVENT
DTSTART;TZID=Europe/London:20240624T131500
DTEND;TZID=Europe/London:20240624T151500
DTSTAMP:20260421T043557
CREATED:20240608T101844Z
LAST-MODIFIED:20240608T102219Z
UID:2780-1719234900-1719242100@www.glassary.argyll-bute.sch.uk
SUMMARY:Sports Day
DESCRIPTION:Sports Day this year will take place on Monday 24th June. The children will be taking part in a number of activities throughout the day and there will be events starting at 1.15 that parents can come along to watch. There is absolutely no expectation that parents attend but if you would like to come along\, you will be very welcome.
URL:https://www.glassary.argyll-bute.sch.uk/event/sports-day/
LOCATION:Glassary Primary School
END:VEVENT
BEGIN:VEVENT
DTSTART;TZID=Europe/London:20240613T090000
DTEND;TZID=Europe/London:20240613T150000
DTSTAMP:20260421T043557
CREATED:20240608T104040Z
LAST-MODIFIED:20240608T104040Z
UID:2787-1718269200-1718290800@www.glassary.argyll-bute.sch.uk
SUMMARY:P1 to 4 trip to Taynish National Nature Reserve.
DESCRIPTION:As you will know from recent updates\, the Primary 1 to 4 class has been working with Mrs Jacquelyn Condie from Kilmartin House Museum this term on an exciting Nature Detectives project. This will culminate in a visit to Taynish National Nature Reserve on Thursday 13th June\, when the children will work with Jacquelyn and Heather Goodwin from NatureScot and explore the fantastic environment of the reserve and temperate rain forest.
URL:https://www.glassary.argyll-bute.sch.uk/event/p1-to-4-trip-to-taynish-national-nature-reserve/
END:VEVENT
BEGIN:VEVENT
DTSTART;VALUE=DATE:20240610
DTEND;VALUE=DATE:20240622
DTSTAMP:20260421T043557
CREATED:20230827T153350Z
LAST-MODIFIED:20240502T093323Z
UID:1233-1717977600-1719014399@www.glassary.argyll-bute.sch.uk
SUMMARY:New P1 and new S1 induction activities.
DESCRIPTION:P7 into S1 and Pre-5 into P1 induction activities/days. \nP7 will attend the High School on Monday 10th and Tuesday 11th June and Tuesday 18th and Wednesday 19th June. \nOur new P1s will be in the P1 to 4 class on the morning of Tuesday 11th June and all day on Tuesday 18th June. \n 
URL:https://www.glassary.argyll-bute.sch.uk/event/new-p1-and-new-s1-induction-activities/
END:VEVENT
BEGIN:VEVENT
DTSTART;TZID=Europe/London:20240603T090000
DTEND;TZID=Europe/London:20240606T153000
DTSTAMP:20260421T043557
CREATED:20230827T152613Z
LAST-MODIFIED:20230827T152613Z
UID:1229-1717405200-1717687800@www.glassary.argyll-bute.sch.uk
SUMMARY:P7 residential.
DESCRIPTION:P7 residential to Arran (provisional)
URL:https://www.glassary.argyll-bute.sch.uk/event/p7-residential/
END:VEVENT
BEGIN:VEVENT
DTSTART;TZID=Europe/London:20240531T190000
DTEND;TZID=Europe/London:20240531T210000
DTSTAMP:20260421T043557
CREATED:20240517T051306Z
LAST-MODIFIED:20240517T051306Z
UID:2240-1717182000-1717189200@www.glassary.argyll-bute.sch.uk
SUMMARY:Parent Council Beetle Drive
DESCRIPTION:Don’t forget to get you tickets for the Beetle Drive which takes place on Friday 31st May and has been organised by the Parent Council to raise funds for the school. We are looking forward to a fun family evening. \n7pm \nAll ages welcome \n£5 per  card
URL:https://www.glassary.argyll-bute.sch.uk/event/parent-council-beetle-drive/
LOCATION:Glassary Primary School
END:VEVENT
BEGIN:VEVENT
DTSTART;TZID=Europe/London:20240528T090000
DTEND;TZID=Europe/London:20240531T153000
DTSTAMP:20260421T043557
CREATED:20230827T152307Z
LAST-MODIFIED:20230827T152307Z
UID:1227-1716886800-1717169400@www.glassary.argyll-bute.sch.uk
SUMMARY:Reports issued.
DESCRIPTION:Individual written pupil progress reports will be issued this week.
URL:https://www.glassary.argyll-bute.sch.uk/event/reports-issued/
END:VEVENT
BEGIN:VEVENT
DTSTART;VALUE=DATE:20240527
DTEND;VALUE=DATE:20240528
DTSTAMP:20260421T043557
CREATED:20230827T152202Z
LAST-MODIFIED:20230827T152202Z
UID:1225-1716768000-1716854399@www.glassary.argyll-bute.sch.uk
SUMMARY:Holiday.
DESCRIPTION:Pupils and staff do not attend school on this day.
URL:https://www.glassary.argyll-bute.sch.uk/event/holiday/
LOCATION:Glassary Primary School
END:VEVENT
BEGIN:VEVENT
DTSTART;VALUE=DATE:20240524
DTEND;VALUE=DATE:20240525
DTSTAMP:20260421T043557
CREATED:20230827T151948Z
LAST-MODIFIED:20230827T151948Z
UID:1223-1716508800-1716595199@www.glassary.argyll-bute.sch.uk
SUMMARY:Staff training day.
DESCRIPTION:Pupils do not attend school on this day.
URL:https://www.glassary.argyll-bute.sch.uk/event/staff-training-day-2/
LOCATION:Glassary Primary School
END:VEVENT
BEGIN:VEVENT
DTSTART;VALUE=DATE:20240520
DTEND;VALUE=DATE:20240522
DTSTAMP:20260421T043557
CREATED:20240517T043245Z
LAST-MODIFIED:20240517T043245Z
UID:2223-1716163200-1716335999@www.glassary.argyll-bute.sch.uk
SUMMARY:Sense of Place Residency - P5 to P7
DESCRIPTION:We have organised a very exciting opportunity for our Primary 5 to 7 classes to learn together about the local environment and wildlife on Monday 20th and Tuesday 21st May. This is a joint venture involving our schools and Hope Spot which is a community-led celebration of this part of Scotland’s world-class natural riches. Over the two days\, pupils will work with Pete Creech from Heart of Argyll Nature\, Dan Coyle\, local swimming and Gaelic tutor and a local artist on activities that will raise awareness and understanding of the very special environment\, community and biodiversity that surrounds us. Full details of the event can be found in the letter issued on May 7th. \nLetter 7th May 2024 (002)
URL:https://www.glassary.argyll-bute.sch.uk/event/sense-of-place-residency-p5-to-p7/
END:VEVENT
BEGIN:VEVENT
DTSTART;TZID=Europe/London:20240513T090000
DTEND;TZID=Europe/London:20240517T153000
DTSTAMP:20260421T043557
CREATED:20230827T151842Z
LAST-MODIFIED:20230827T151842Z
UID:1221-1715590800-1715959800@www.glassary.argyll-bute.sch.uk
SUMMARY:Class trips this week.
DESCRIPTION:
URL:https://www.glassary.argyll-bute.sch.uk/event/class-trips-this-week/
END:VEVENT
BEGIN:VEVENT
DTSTART;VALUE=DATE:20240417
DTEND;VALUE=DATE:20240418
DTSTAMP:20260421T043557
CREATED:20231021T180025Z
LAST-MODIFIED:20231021T180025Z
UID:1432-1713312000-1713398399@www.glassary.argyll-bute.sch.uk
SUMMARY:PATCH Workshops for P6 and 7.
DESCRIPTION:PATCH workshops with Emily Love on personal safety\, boundaries and respect.
URL:https://www.glassary.argyll-bute.sch.uk/event/patch-workshops-for-p6-and-7/
LOCATION:Glassary Primary School
END:VEVENT
BEGIN:VEVENT
DTSTART;VALUE=DATE:20240415
DTEND;VALUE=DATE:20240416
DTSTAMP:20260421T043557
CREATED:20230827T151414Z
LAST-MODIFIED:20230827T151414Z
UID:1219-1713139200-1713225599@www.glassary.argyll-bute.sch.uk
SUMMARY:Back to school.
DESCRIPTION:School returns after the Spring holiday on this day.
URL:https://www.glassary.argyll-bute.sch.uk/event/back-to-school-4/
LOCATION:Glassary Primary School
END:VEVENT
BEGIN:VEVENT
DTSTART;TZID=Europe/London:20240328T090000
DTEND;TZID=Europe/London:20240328T143000
DTSTAMP:20260421T043557
CREATED:20230827T151234Z
LAST-MODIFIED:20230827T151234Z
UID:1217-1711616400-1711636200@www.glassary.argyll-bute.sch.uk
SUMMARY:Break up.
DESCRIPTION:School breaks up for the Spring holiday on this day at 2.30pm.
URL:https://www.glassary.argyll-bute.sch.uk/event/break-up-4/
LOCATION:Glassary Primary School
END:VEVENT
BEGIN:VEVENT
DTSTART;VALUE=DATE:20240315
DTEND;VALUE=DATE:20240316
DTSTAMP:20260421T043557
CREATED:20230827T151042Z
LAST-MODIFIED:20230827T151042Z
UID:1215-1710460800-1710547199@www.glassary.argyll-bute.sch.uk
SUMMARY:Comic Relief Day.
DESCRIPTION:
URL:https://www.glassary.argyll-bute.sch.uk/event/comic-relief-day/
LOCATION:Glassary Primary School
END:VEVENT
BEGIN:VEVENT
DTSTART;VALUE=DATE:20240322
DTEND;VALUE=DATE:20240323
DTSTAMP:20260421T043557
CREATED:20230827T150846Z
LAST-MODIFIED:20240307T210318Z
UID:1213-1711065600-1711151999@www.glassary.argyll-bute.sch.uk
SUMMARY:Whole School Trip.
DESCRIPTION:Whole school trip to Blair Drummond Safari Park.
URL:https://www.glassary.argyll-bute.sch.uk/event/parent-council-whole-school-trip/
END:VEVENT
BEGIN:VEVENT
DTSTART;VALUE=DATE:20240307
DTEND;VALUE=DATE:20240308
DTSTAMP:20260421T043557
CREATED:20230827T150405Z
LAST-MODIFIED:20230827T150405Z
UID:1209-1709769600-1709855999@www.glassary.argyll-bute.sch.uk
SUMMARY:World Book Day.
DESCRIPTION:World Book Day will be celebrated with curricular activities across the school.
URL:https://www.glassary.argyll-bute.sch.uk/event/world-book-day/
LOCATION:Glassary Primary School
END:VEVENT
BEGIN:VEVENT
DTSTART;TZID=Europe/London:20240304T154500
DTEND;TZID=Europe/London:20240307T170000
DTSTAMP:20260421T043557
CREATED:20230827T150613Z
LAST-MODIFIED:20230827T150613Z
UID:1211-1709567100-1709830800@www.glassary.argyll-bute.sch.uk
SUMMARY:Parents' Evenings.
DESCRIPTION:Parents’ evenings will take place after school in the week beginning 4th March where parents/carers can discuss with the class teacher how their child is progressing mid academic year. Individual times will be arranged with families.
URL:https://www.glassary.argyll-bute.sch.uk/event/parents-evenings-2/
LOCATION:Glassary Primary School
END:VEVENT
BEGIN:VEVENT
DTSTART;VALUE=DATE:20240228
DTEND;VALUE=DATE:20240229
DTSTAMP:20260421T043557
CREATED:20231021T175924Z
LAST-MODIFIED:20231021T175924Z
UID:1430-1709078400-1709164799@www.glassary.argyll-bute.sch.uk
SUMMARY:PATCH Workshop for P5\,6 and 7
DESCRIPTION:PATCH workshops with Emily Love on personal safety\, boundaries and respect.
URL:https://www.glassary.argyll-bute.sch.uk/event/patch-workshop-for-p56-and-7-2/
LOCATION:Glassary Primary School
END:VEVENT
BEGIN:VEVENT
DTSTART;VALUE=DATE:20240220
DTEND;VALUE=DATE:20240221
DTSTAMP:20260421T043557
CREATED:20240113T111155Z
LAST-MODIFIED:20240113T111155Z
UID:1879-1708387200-1708473599@www.glassary.argyll-bute.sch.uk
SUMMARY:Pupils back to school
DESCRIPTION:
URL:https://www.glassary.argyll-bute.sch.uk/event/pupils-back-to-school/
LOCATION:Glassary Primary School
END:VEVENT
BEGIN:VEVENT
DTSTART;VALUE=DATE:20240219
DTEND;VALUE=DATE:20240220
DTSTAMP:20260421T043557
CREATED:20240113T111056Z
LAST-MODIFIED:20240113T111839Z
UID:1877-1708300800-1708387199@www.glassary.argyll-bute.sch.uk
SUMMARY:Staff Inservice Day
DESCRIPTION:The School will be closed to children for staff training.
URL:https://www.glassary.argyll-bute.sch.uk/event/teacher-inservice-day/
LOCATION:Glassary Primary School
END:VEVENT
BEGIN:VEVENT
DTSTART;TZID=Europe/London:20240209T090000
DTEND;TZID=Europe/London:20240412T153000
DTSTAMP:20260421T043557
CREATED:20230827T150055Z
LAST-MODIFIED:20230827T150055Z
UID:1205-1707469200-1712935800@www.glassary.argyll-bute.sch.uk
SUMMARY:Break up.
DESCRIPTION:School breaks up for the February holiday on this day at the usual time.
URL:https://www.glassary.argyll-bute.sch.uk/event/break-up-3/
LOCATION:Glassary Primary School
END:VEVENT
BEGIN:VEVENT
DTSTART;VALUE=DATE:20240118
DTEND;VALUE=DATE:20240119
DTSTAMP:20260421T043557
CREATED:20231021T175726Z
LAST-MODIFIED:20240113T111601Z
UID:1428-1705536000-1705622399@www.glassary.argyll-bute.sch.uk
SUMMARY:PATCH Workshop for P5\, 6 and 7
DESCRIPTION:PATCH workshops with Emily Love on personal safety\, boundaries and respect.
URL:https://www.glassary.argyll-bute.sch.uk/event/patch-workshop-for-p6-and-7/
LOCATION:Glassary Primary School
END:VEVENT
BEGIN:VEVENT
DTSTART;TZID=Europe/London:20240117T130000
DTEND;TZID=Europe/London:20240117T140000
DTSTAMP:20260421T043557
CREATED:20240113T111426Z
LAST-MODIFIED:20240113T111426Z
UID:1881-1705496400-1705500000@www.glassary.argyll-bute.sch.uk
SUMMARY:Visit from Oral Health Team - Toothbrushing
DESCRIPTION:Karen Grieve from the Oral Health Team will be in to observe our Toothbrushing Programme.
URL:https://www.glassary.argyll-bute.sch.uk/event/visit-from-oral-health-team-toothbrushing/
LOCATION:Glassary Primary School
END:VEVENT
BEGIN:VEVENT
DTSTART;VALUE=DATE:20240104
DTEND;VALUE=DATE:20240105
DTSTAMP:20260421T043557
CREATED:20230827T145753Z
LAST-MODIFIED:20230827T145753Z
UID:1203-1704326400-1704412799@www.glassary.argyll-bute.sch.uk
SUMMARY:Back to school.
DESCRIPTION:School returns after the winter holiday on this day.
URL:https://www.glassary.argyll-bute.sch.uk/event/back-to-school-2/
LOCATION:Glassary Primary School
END:VEVENT
BEGIN:VEVENT
DTSTART;TZID=Europe/London:20231221T090000
DTEND;TZID=Europe/London:20240222T143000
DTSTAMP:20260421T043557
CREATED:20230827T145526Z
LAST-MODIFIED:20230827T145526Z
UID:1200-1703149200-1708612200@www.glassary.argyll-bute.sch.uk
SUMMARY:Break up.
DESCRIPTION:School breaks up for the winter holiday on this day at 2.30pm.
URL:https://www.glassary.argyll-bute.sch.uk/event/break-up-2/
LOCATION:Glassary Primary School
END:VEVENT
END:VCALENDAR