BEGIN:VCALENDAR
VERSION:2.0
PRODID:-//Glassary Primary School - ECPv6.15.20//NONSGML v1.0//EN
CALSCALE:GREGORIAN
METHOD:PUBLISH
X-ORIGINAL-URL:https://www.glassary.argyll-bute.sch.uk
X-WR-CALDESC:Events for Glassary Primary School
REFRESH-INTERVAL;VALUE=DURATION:PT1H
X-Robots-Tag:noindex
X-PUBLISHED-TTL:PT1H
BEGIN:VTIMEZONE
TZID:Europe/London
BEGIN:DAYLIGHT
TZOFFSETFROM:+0000
TZOFFSETTO:+0100
TZNAME:BST
DTSTART:20240331T010000
END:DAYLIGHT
BEGIN:STANDARD
TZOFFSETFROM:+0100
TZOFFSETTO:+0000
TZNAME:GMT
DTSTART:20241027T010000
END:STANDARD
BEGIN:DAYLIGHT
TZOFFSETFROM:+0000
TZOFFSETTO:+0100
TZNAME:BST
DTSTART:20250330T010000
END:DAYLIGHT
BEGIN:STANDARD
TZOFFSETFROM:+0100
TZOFFSETTO:+0000
TZNAME:GMT
DTSTART:20251026T010000
END:STANDARD
BEGIN:DAYLIGHT
TZOFFSETFROM:+0000
TZOFFSETTO:+0100
TZNAME:BST
DTSTART:20260329T010000
END:DAYLIGHT
BEGIN:STANDARD
TZOFFSETFROM:+0100
TZOFFSETTO:+0000
TZNAME:GMT
DTSTART:20261025T010000
END:STANDARD
END:VTIMEZONE
BEGIN:VEVENT
DTSTART;VALUE=DATE:20250321
DTEND;VALUE=DATE:20250322
DTSTAMP:20260422T224404
CREATED:20240804T132058Z
LAST-MODIFIED:20250220T172339Z
UID:3061-1742515200-1742601599@www.glassary.argyll-bute.sch.uk
SUMMARY:Comic Relief Day.
DESCRIPTION:Details of fundraising events that will take place on this day will follow.
URL:https://www.glassary.argyll-bute.sch.uk/event/comic-relief-day-2/
LOCATION:Glassary Primary School
END:VEVENT
BEGIN:VEVENT
DTSTART;VALUE=DATE:20250326
DTEND;VALUE=DATE:20250327
DTSTAMP:20260422T224404
CREATED:20250216T170218Z
LAST-MODIFIED:20250216T170218Z
UID:3765-1742947200-1743033599@www.glassary.argyll-bute.sch.uk
SUMMARY:LANDS25 Event
DESCRIPTION:We are delighted that our P5\,6 and 7 pupils have been invited to LANDS25\, an exciting outdoor STEM (Science\, Technology\, Engineering and Maths) event taking place on Wednesday 26th March 2025\, in the grounds of Kilmory Castle and Lochgilphead Joint Campus. This will be a fantastic opportunity for the children to discover the learning and employment opportunities rooted in the lands of Argyll and Bute from local and national organisations and alongside other pupils from schools in Mid Argyll.
URL:https://www.glassary.argyll-bute.sch.uk/event/lands25-event/
LOCATION:Lochgilphead Joint Campus.
END:VEVENT
END:VCALENDAR